BEGIN:VCALENDAR
VERSION:2.0
PRODID:-//Bookselling Research Network - ECPv6.15.20//NONSGML v1.0//EN
CALSCALE:GREGORIAN
METHOD:PUBLISH
X-ORIGINAL-URL:https://booksellingresearchnet.uk
X-WR-CALDESC:Events for Bookselling Research Network
REFRESH-INTERVAL;VALUE=DURATION:PT1H
X-Robots-Tag:noindex
X-PUBLISHED-TTL:PT1H
BEGIN:VTIMEZONE
TZID:Europe/London
BEGIN:DAYLIGHT
TZOFFSETFROM:+0000
TZOFFSETTO:+0100
TZNAME:BST
DTSTART:20250330T010000
END:DAYLIGHT
BEGIN:STANDARD
TZOFFSETFROM:+0100
TZOFFSETTO:+0000
TZNAME:GMT
DTSTART:20251026T010000
END:STANDARD
BEGIN:DAYLIGHT
TZOFFSETFROM:+0000
TZOFFSETTO:+0100
TZNAME:BST
DTSTART:20260329T010000
END:DAYLIGHT
BEGIN:STANDARD
TZOFFSETFROM:+0100
TZOFFSETTO:+0000
TZNAME:GMT
DTSTART:20261025T010000
END:STANDARD
BEGIN:DAYLIGHT
TZOFFSETFROM:+0000
TZOFFSETTO:+0100
TZNAME:BST
DTSTART:20270328T010000
END:DAYLIGHT
BEGIN:STANDARD
TZOFFSETFROM:+0100
TZOFFSETTO:+0000
TZNAME:GMT
DTSTART:20271031T010000
END:STANDARD
END:VTIMEZONE
BEGIN:VEVENT
DTSTART;TZID=Europe/London:20260414T140000
DTEND;TZID=Europe/London:20260414T150000
DTSTAMP:20260423T172346
CREATED:20260309T095422Z
LAST-MODIFIED:20260414T155332Z
UID:3157-1776175200-1776178800@booksellingresearchnet.uk
SUMMARY:From Market to Margin: The Growth of Queer Literature in the UK
DESCRIPTION:Over the past five years\, the UK has seen a striking surge in LGBTQIA+ literature\, both in visibility and in commercial weight. The “Queer Top 50” alone accounted for around 2.2 million books sold and £20.6 million in value in 2024\, showing that queer writing is no longer a niche but a significant cultural and economic force. \n\n\n\nBreakout titles such as Heartstopper have set records — 60\,000 copies sold in just three days — proving that readers are hungry for authentic queer stories across genres. This growth is also supported by change inside the industry itself: in 2024\, 16% of the UK publishing workforce identified as LGBT+\, up from just 5% in 2017\, helping shift commissioning and marketing decisions towards greater inclusivity. \n\n\n\nFor independent and specialist booksellers\, this represents both opportunity and responsibility. We are uniquely positioned to curate\, champion\, and hand-sell the diverse range of LGBTQIA+ titles that mainstream outlets may overlook. At a time when some schools and libraries are under pressure to remove queer books\, shops like Gay on Wye become not just retailers but safe cultural spaces\, sustaining visibility\, access\, and community for readers who need these stories most. \n\n\n\nJoin Tom Owen\, founder of Gay on Wye\, an independent LGBTQIA+ bookshop in Hay-on-Wye\, as he discusses the research which led to the opening of his shop and his vision for the future of queer literature on the UK high street\, Stocking LGBTQIA+ books isn’t about cashing in on the pink pound — it’s about offering stories that resonate deeply with readers and help build lasting community. \n\n\n\n\n\n\n\n\n\n\n\nAbout Tom Owen: \n\n\n\nTom opened Gay on Wye in 2023 after nearly a decade of planning. With a background in the creative arts\, he has worked with institutions across South Wales and the UK\, shaping his understanding of storytelling\, culture\, and representation. A passionate reader — especially of science fiction — he believes in literature’s power to transport\, challenge\, and affirm identities.  \n\n\n\nWhether promoting LGBTQIA+ authors\, creating a welcoming space for discovery\, or simply sharing his love of books\, Tom remains committed to the belief that every reader deserves to see themselves reflected in literature.
URL:https://booksellingresearchnet.uk/event/from-market-to-margin-the-growth-of-queer-literature-in-the-uk/
ATTACH;FMTTYPE=image/jpeg:https://booksellingresearchnet.uk/wp-content/uploads/2026/03/IMG_9927-scaled.jpeg
END:VEVENT
BEGIN:VEVENT
DTSTART;TZID=Europe/London:20260522T140000
DTEND;TZID=Europe/London:20260522T150000
DTSTAMP:20260423T172346
CREATED:20260115T113403Z
LAST-MODIFIED:20260121T114206Z
UID:3064-1779458400-1779462000@booksellingresearchnet.uk
SUMMARY:BA Bookshop Mentoring Scheme with Creative Access
DESCRIPTION:Throughout 2025\, the Booksellers Association (BA) collaborated with Creative Access to deliver a mentoring programme designed to support young people seeking to enter—or advance within—the bookselling profession. Fifteen mentees\, selected by Creative Access from communities historically under‑represented in the book trade\, were paired with experienced bookseller mentors identified by the BA. In her presentation\, Kate Gunning\, Head of Membership Development at the BA\, will discuss the origins of the initiative and provide an overview of its implementation and outcomes. \n\n\n\n\n\n\n\nKate Gunning\, Head of Membership Development at the Booksellers Association\, is a seasoned bookselling and publishing professional with extensive experience across retail management\, buying\, and member services. Joining the Booksellers Association in 2022 as Acting Membership Manager\, she now supervises all membership processes and services and runs BA Learning\, the Association’s learning and development programme. She also runs the Children’s and Christian Bookselling Groups and the Independent Booksellers Forum. Kate previously spent 13 years at Waterstones\, managed stores in Paris and London\, served as Book Buyer at Selfridges and Head of Buying at Foyles\, and later spent 12 years as Independent Bookshops Manager at Penguin Random House.
URL:https://booksellingresearchnet.uk/event/brn-gunning26/
ATTACH;FMTTYPE=image/jpeg:https://booksellingresearchnet.uk/wp-content/uploads/2026/01/Untitled.jpg
END:VEVENT
BEGIN:VEVENT
DTSTART;TZID=Europe/London:20260619T140000
DTEND;TZID=Europe/London:20260619T150000
DTSTAMP:20260423T172346
CREATED:20260115T114318Z
LAST-MODIFIED:20260417T095053Z
UID:3066-1781877600-1781881200@booksellingresearchnet.uk
SUMMARY:The British Book Trade and the Book War of 1906
DESCRIPTION:With Dr Maria Vassilopoulos (University of Wales Press) \n\n\n\nDetails and bio coming soon…. \n\n\n\nZoom link: https://ucl.zoom.us/j/98063967186?pwd=daa3MXuKqIxhi4bywijmmnuYYk0reN.1 \n\n\n\nMeeting ID: 980 6396 7186 \n\n\n\nPasscode: 294860
URL:https://booksellingresearchnet.uk/event/the-british-book-trade-and-the-book-war-of-1906/
END:VEVENT
BEGIN:VEVENT
DTSTART;TZID=Europe/London:20260909T170000
DTEND;TZID=Europe/London:20260911T130000
DTSTAMP:20260423T172346
CREATED:20251030T170435Z
LAST-MODIFIED:20251126T161252Z
UID:2826-1788973200-1789131600@booksellingresearchnet.uk
SUMMARY:BRN Bookselling Conference 2026: Spaces of Bookselling
DESCRIPTION:Bangor University | 9–11 September 2026In association with the Stephen Colclough Centre for the History and Culture of the Book \n\n\n\n\n\n\n\n“For such a space entails the unexpected. The specifically spatial within time-space is produced by that—sometimes happenstance\, sometimes not—arrangement-in-relation-to-each-other that results from the multiplicity of trajectories. In spatial configurations\, otherwise unconnected narratives may be brought into contact\, or previously connected ones may be wrenched apart. There is always an element of ‘chaos.’ This is the chance of space.”— Doreen Massey\, For Space (2005)
URL:https://booksellingresearchnet.uk/event/brn26/
ATTACH;FMTTYPE=image/jpeg:https://booksellingresearchnet.uk/wp-content/uploads/2025/10/76901_DS2007_405_002-Bangor-University-Library-scaled.jpg
END:VEVENT
BEGIN:VEVENT
DTSTART;TZID=Europe/London:20261125T140000
DTEND;TZID=Europe/London:20261125T153000
DTSTAMP:20260423T172346
CREATED:20260417T132625Z
LAST-MODIFIED:20260417T132628Z
UID:3236-1795615200-1795620600@booksellingresearchnet.uk
SUMMARY:How Queer Bookshops Changed the World
DESCRIPTION:With A. J. West\, author of How Queer Bookshops Changed the World (Oneworld\, 2026).  \n\n\n\nA.J.West is a Sunday Times bestselling\, multi-award-winning historical fiction novelist and historian. Prior to publication he was a breakfast host on BBC television news. He appears regularly on national television and radio programmes discussing literature\, history and current affairs. His novel\, The Betrayal of Thomas True\, was an instant Sunday Times bestseller\, winning the coveted CWA Historical Dagger award\, while The Spirit Engineer won the Historical Writers Association Debut Crown. With a passion for digging up forgotten historical stories and bringing them back to life\, he spends much of his time exploring archives and visiting locations of historical interest\, not to mention touring independent bookshops. \n\n\n\nJoin via zoom: https://ucl.zoom.us/j/97453193955?pwd=UgZl8xD10aayBcJ8pA8MxQH5VVtqwO.1 \n\n\n\nMeeting ID: 974 5319 3955 \n\n\n\nPasscode: 610720
URL:https://booksellingresearchnet.uk/event/how-queer-bookshops-changed-the-world/
END:VEVENT
END:VCALENDAR